{"text_format":"3","workbook":"xlsx","n_sheets":3,"sheets":["総括表","総括表 (2)","リスト"],"not_rendered":{"defined_names":14,"comments":2},"read":"whole","date_system":"1900"}

{"sheet":"総括表","index":0,"n_rows":73,"n_cols":65,"rows_kept":73,"merged":[[0,0,0,62],[1,16,1,18],[1,49,1,62],[2,8,2,9],[2,11,2,19],[2,20,2,24],[2,25,2,29],[2,30,2,34],[2,35,2,40],[2,41,2,48],[2,49,2,62],[3,13,3,47],[5,0,5,7],[6,5,6,7],[6,8,6,41],[7,5,7,7],[7,8,7,14],[7,15,7,41],[8,3,8,7],[8,8,8,22],[8,23,8,36],[8,37,8,62],[9,3,9,62],[10,3,10,62],[11,1,11,2],[11,3,11,57],[12,1,12,2],[12,3,12,57],[13,3,13,22],[13,23,13,28],[13,29,13,62],[14,0,16,1],[14,2,14,7],[14,8,14,28],[14,29,14,41],[14,42,14,62],[15,2,15,7],[15,8,15,28],[15,29,16,41],[15,42,15,62],[16,2,16,3],[16,8,16,16],[16,17,16,20],[16,21,16,24],[16,25,16,28],[16,42,16,62],[17,0,17,2],[17,3,17,41],[17,42,17,62],[19,1,19,41],[19,42,19,62],[20,1,20,41],[20,42,20,62],[21,1,21,41],[21,42,21,62],[22,1,22,41],[22,42,22,62],[23,1,23,41],[23,42,23,62],[24,1,24,41],[24,42,24,62],[25,1,25,41],[25,42,25,62],[26,1,26,41],[26,42,26,62],[27,1,27,41],[27,42,27,62],[28,1,28,41],[28,42,28,62],[29,1,29,41],[29,42,29,62],[30,1,30,41],[30,42,30,62],[31,1,31,41],[31,42,31,62],[32,1,32,41],[32,42,32,62],[33,1,33,41],[33,42,33,62],[34,0,34,41],[34,42,34,62],[35,0,35,41],[35,42,35,62],[37,0,37,62],[38,16,38,18],[38,49,38,62],[39,8,39,9],[39,11,39,19],[39,20,39,24],[39,25,39,29],[39,30,39,34],[39,35,39,40],[39,41,39,48],[39,49,39,62],[42,0,42,7],[43,5,43,7],[43,8,43,41],[44,5,44,7],[44,8,44,14],[44,15,44,41],[45,3,45,7],[45,8,45,22],[45,23,45,36],[45,37,45,62],[46,3,46,62],[47,3,47,62],[48,1,48,2],[48,3,48,57],[49,1,49,2],[49,3,49,57],[50,3,50,22],[50,23,50,28],[50,29,50,62],[51,0,53,1],[51,2,51,7],[51,8,51,28],[51,29,51,41],[51,42,51,62],[52,2,52,7],[52,8,52,28],[52,29,53,41],[52,42,52,62],[53,2,53,3],[53,8,53,16],[53,17,53,20],[53,21,53,24],[53,25,53,28],[53,42,53,62],[54,0,54,2],[54,3,54,41],[54,42,54,62],[56,1,56,41],[56,42,56,62],[57,1,57,41],[57,42,57,62],[58,1,58,41],[58,42,58,62],[59,1,59,41],[59,42,59,62],[60,1,60,41],[60,42,60,62],[61,1,61,41],[61,42,61,62],[62,1,62,41],[62,42,62,62],[63,1,63,41],[63,42,63,62],[64,1,64,41],[64,42,64,62],[65,1,65,41],[65,42,65,62],[66,1,66,41],[66,42,66,62],[67,1,67,41],[67,42,67,62],[68,1,68,41],[68,42,68,62],[69,1,69,41],[69,42,69,62],[70,1,70,41],[70,42,70,62],[71,0,71,41],[71,42,71,62],[72,0,72,41],[72,42,72,62]]}
[" 　請 求 書 （総括表）　"]
[{"$nulls":49},"①取引先控"]
[{"$nulls":20},"年",{"$nulls":9},"月",{"$nulls":10},"日締切",{"$nulls":22},{"$f":"\"月\"&Z3","v":"月"}]
[{"$nulls":13},{"$f":"IF(OR(AND(Z3=6,AJ3<>20,AJ3<>30),AND(Z3=12,AJ3<>15,AJ3<>20),AND(Z3=1,AJ3<>20),AND(Z3=2,AJ3<>20),AND(Z3=3,AJ3<>20),AND(Z3=4,AJ3<>20),AND(Z3=5,AJ3<>20),AND(Z3=7,AJ3<>20),AND(Z3=8,AJ3<>20),AND(Z3=9,AJ3<>20,TRUE),AND(Z3=10,AJ3<>20),AND(Z3=11,AJ3<>20)),\"正しい締日を選択してください\",\"\")","v":""}]
["酒井鈴木工業㈱　御中"]
[]
[{"$nulls":5},"摘　　　要",null,null,"金　　　　　　　額"]
[{"$nulls":5},"請　求　額",null,null,"　￥",{"$nulls":6},{"$f":"AQ35+'総括表 (2)'!P33","v":{"v":0,"d":"0-"}}]
[null,null,"〒",{"$nulls":20},"登録番号 ： T"]
[null,null,"住所"]
[null,null,"社名","社名を入力してください"]
[null,"代表者"]
[null,"ﾒｰﾙｱﾄﾞﾚｽ"]
[null,null,"TEL",{"$nulls":20},"FAX"]
["振　込　先",null,"金融機関名",{"$nulls":5},"支店名",{"$nulls":20},"口座種別",{"$nulls":12},"口座番号"]
[{"$nulls":29},"普通／当座"]
[null,null,"金融機関ｺｰﾄﾞ",{"$nulls":5},"支店ｺｰﾄﾞ",{"$nulls":33},"取引先コード"]
["口座名義（カタカナで）"]
[]
["No.","工事番号・工事名",{"$nulls":40},"税込金額"]
{"$rows_empty":14}
["小計　",{"$nulls":41},{"$f":"SUM(AQ21:BK34)","v":{"v":0,"d":"¥0"}}]
["合計　",{"$nulls":41},{"$f":"AQ35+'総括表 (2)'!P33","v":{"v":0,"d":"¥0"}}]
[]
[" 　請 求 書 （総括表）　"]
[{"$nulls":49},"②本社提出用"]
[{"$nulls":11},{"$f":"L3","v":0},{"$nulls":8},"年",{"$nulls":4},{"$f":"Z3","v":0},{"$nulls":4},"月",{"$nulls":4},{"$f":"AJ3","v":0},{"$nulls":5},"日締切"]
[]
["酒井鈴木工業㈱　御中"]
[]
[{"$nulls":5},"摘　　　要",null,null,"金　　　　　　　額"]
[{"$nulls":5},"請　求　額",null,null,"　￥",{"$nulls":6},{"$f":"P8","v":{"v":0,"d":"0-"}}]
[null,null,"〒",{"$f":"D9","v":0},{"$nulls":19},"登録番号 ： T",{"$nulls":13},{"$f":"AL9","v":0}]
[null,null,"住所",0]
[null,null,"社名",{"$f":"IF(D11=\"社名を入力してください\",\"\",D11)","v":""}]
[null,"代表者",null,0]
[null,"ﾒｰﾙｱﾄﾞﾚｽ",null,0]
[null,null,"TEL",0,{"$nulls":19},"FAX",{"$nulls":5},{"$f":"AD14","v":0}]
["振　込　先",null,"金融機関名",{"$nulls":5},"支店名",{"$nulls":20},"口座種別",{"$nulls":12},"口座番号"]
[null,null,{"$f":"C16","v":0},{"$nulls":5},{"$f":"I16","v":0},{"$nulls":20},{"$f":"AD16","v":"普通／当座"},{"$nulls":12},{"$f":"AQ16","v":0}]
[null,null,"金融機関ｺｰﾄﾞ",null,{"$f":"E17","v":0},{"$f":"F17","v":0},{"$f":"G17","v":0},{"$f":"H17","v":0},"支店ｺｰﾄﾞ",{"$nulls":8},{"$f":"R17","v":0},{"$nulls":3},{"$f":"V17","v":0},{"$nulls":3},{"$f":"Z17","v":0},{"$nulls":16},"取引先コード"]
["口座名義（カタカナで）",null,null,{"$f":"D18","v":0},{"$nulls":38},{"$f":"AQ18","v":0}]
[]
["No.","工事番号・工事名",{"$nulls":40},"税込金額"]
[{"$f":"A21","v":0},{"$f":"B21","v":0},{"$nulls":40},{"$f":"AQ21","v":{"v":0,"d":"0 "}}]
[{"$f":"A22","v":0},{"$f":"B22","v":0},{"$nulls":40},{"v":0,"d":"0 "}]
[{"$f":"A23","v":0},{"$f":"B23","v":0},{"$nulls":40},{"v":0,"d":"0 "}]
[0,{"$f":"B24","v":0},{"$nulls":40},{"v":0,"d":"0 "}]
[0,0,{"$nulls":40},{"v":0,"d":"0 "}]
[0,0,{"$nulls":40},{"v":0,"d":"0 "}]
[0,0,{"$nulls":40},{"v":0,"d":"0 "}]
[0,0,{"$nulls":40},{"v":0,"d":"0 "}]
[0,0,{"$nulls":40},{"v":0,"d":"0 "}]
[0,0,{"$nulls":40},{"v":0,"d":"0 "}]
[0,0,{"$nulls":40},{"v":0,"d":"0 "}]
[0,0,{"$nulls":40},{"v":0,"d":"0 "}]
[0,0,{"$nulls":40},{"v":0,"d":"0 "}]
[0,0,{"$nulls":40},{"v":0,"d":"0 "}]
["小計　",{"$nulls":41},{"v":0,"d":"¥0"}]
["合計　",{"$nulls":41},{"v":0,"d":"¥0"}]

{"sheet":"総括表 (2)","index":1,"n_rows":67,"n_cols":19,"rows_kept":67,"merged":[[0,0,0,18],[1,16,1,18],[2,8,2,9],[2,11,2,12],[3,3,3,17],[4,3,4,17],[6,1,6,14],[6,15,6,18],[7,1,7,14],[7,15,7,18],[8,1,8,14],[8,15,8,18],[9,1,9,14],[9,15,9,18],[10,1,10,14],[10,15,10,18],[11,1,11,14],[11,15,11,18],[12,1,12,14],[12,15,12,18],[13,1,13,14],[13,15,13,18],[14,1,14,14],[14,15,14,18],[15,1,15,14],[15,15,15,18],[16,1,16,14],[16,15,16,18],[17,1,17,14],[17,15,17,18],[18,1,18,14],[18,15,18,18],[19,1,19,14],[19,15,19,18],[20,1,20,14],[20,15,20,18],[21,1,21,14],[21,15,21,18],[22,1,22,14],[22,15,22,18],[23,1,23,14],[23,15,23,18],[24,1,24,14],[24,15,24,18],[25,1,25,14],[25,15,25,18],[26,1,26,14],[26,15,26,18],[27,1,27,14],[27,15,27,18],[28,1,28,14],[28,15,28,18],[29,1,29,14],[29,15,29,18],[30,1,30,14],[30,15,30,18],[31,1,31,14],[31,15,31,18],[32,0,32,14],[32,15,32,18],[34,0,34,18],[35,15,35,18],[36,8,36,9],[36,11,36,12],[37,3,37,17],[38,3,38,17],[40,1,40,14],[40,15,40,18],[41,1,41,14],[41,15,41,18],[42,1,42,14],[42,15,42,18],[43,1,43,14],[43,15,43,18],[44,1,44,14],[44,15,44,18],[45,1,45,14],[45,15,45,18],[46,1,46,14],[46,15,46,18],[47,1,47,14],[47,15,47,18],[48,1,48,14],[48,15,48,18],[49,1,49,14],[49,15,49,18],[50,1,50,14],[50,15,50,18],[51,1,51,14],[51,15,51,18],[52,1,52,14],[52,15,52,18],[53,1,53,14],[53,15,53,18],[54,1,54,14],[54,15,54,18],[55,1,55,14],[55,15,55,18],[56,1,56,14],[56,15,56,18],[57,1,57,14],[57,15,57,18],[58,1,58,14],[58,15,58,18],[59,1,59,14],[59,15,59,18],[60,1,60,14],[60,15,60,18],[61,1,61,14],[61,15,61,18],[62,1,62,14],[62,15,62,18],[63,1,63,14],[63,15,63,18],[64,1,64,14],[64,15,64,18],[65,1,65,14],[65,15,65,18],[66,0,66,14],[66,15,66,18]]}
[" 　請 求 書 （総括表）-(2)　"]
[{"$nulls":16},"①取引先控"]
[{"$nulls":8},{"$f":"総括表!L3","v":0},null,"年",{"$f":"総括表!Z3","v":0},null,"月",{"$f":"総括表!AJ3","v":0},"日締切",null,null," "]
[null,null,"住所",{"$f":"総括表!D10","v":0}]
[null,null,"社名",{"$f":"IF(総括表!D11=\"社名を入力してください\",\"\",総括表!D11)","v":""}]
[]
["No.","工事番号・工事名",{"$nulls":13},"税込金額"]
{"$rows_empty":25}
["（総括表）-(2)小計　",{"$nulls":14},{"$f":"SUM(P8:S32)","v":{"v":0,"d":"0 "}}]
[]
[" 　請 求 書 （総括表）-(2)　"]
[{"$nulls":15},"②提出用（経理）"]
[{"$nulls":8},{"$f":"I3","v":0},null,"年",{"$f":"L3","v":0},null,"月",{"$f":"O3","v":0},"日締切",null,null," "]
[null,null,"住所",{"$f":"D4","v":0}]
[null,null,"社名",{"$f":"D5","v":""}]
[]
["No.","工事番号・工事名",{"$nulls":13},"税込金額"]
[{"$f":"A8","v":0},0,{"$nulls":13},{"$f":"P8","v":{"v":0,"d":"0 "}}]
[0,0,{"$nulls":13},{"v":0,"d":"0 "}]
[0,0,{"$nulls":13},{"v":0,"d":"0 "}]
[0,0,{"$nulls":13},{"v":0,"d":"0 "}]
[0,0,{"$nulls":13},{"v":0,"d":"0 "}]
[0,0,{"$nulls":13},{"v":0,"d":"0 "}]
[0,0,{"$nulls":13},{"v":0,"d":"0 "}]
[0,0,{"$nulls":13},{"v":0,"d":"0 "}]
[0,0,{"$nulls":13},{"v":0,"d":"0 "}]
[0,0,{"$nulls":13},{"v":0,"d":"0 "}]
[0,0,{"$nulls":13},{"v":0,"d":"0 "}]
[0,0,{"$nulls":13},{"v":0,"d":"0 "}]
[0,0,{"$nulls":13},{"v":0,"d":"0 "}]
[0,0,{"$nulls":13},{"v":0,"d":"0 "}]
[0,0,{"$nulls":13},{"v":0,"d":"0 "}]
[0,0,{"$nulls":13},{"v":0,"d":"0 "}]
[0,0,{"$nulls":13},{"v":0,"d":"0 "}]
[0,0,{"$nulls":13},{"v":0,"d":"0 "}]
[0,0,{"$nulls":13},{"v":0,"d":"0 "}]
[0,0,{"$nulls":13},{"v":0,"d":"0 "}]
[0,0,{"$nulls":13},{"v":0,"d":"0 "}]
[0,0,{"$nulls":13},{"v":0,"d":"0 "}]
[0,0,{"$nulls":13},{"v":0,"d":"0 "}]
[0,0,{"$nulls":13},{"v":0,"d":"0 "}]
[0,0,{"$nulls":13},{"v":0,"d":"0 "}]
["（総括表）-(2)小計　",{"$nulls":14},{"v":0,"d":"0 "}]

{"sheet":"リスト","index":2,"n_rows":13,"n_cols":16,"rows_kept":13,"hidden":true}
["月","口座種類","金融機関","支店","1月","2月","3月","4月","5月","6月","7月","8月","9月","10月","11月","12月"]
[1,"普通／当座","銀行","支店",20,20,20,20,20,20,20,20,20,20,20,15]
[2,"普通","信金","本店",{"$nulls":5},30,{"$nulls":5},20]
[3,"当座","農協","営業部"]
[4,null,"郵貯","出張所"]
[5,null,"その他","その他"]
[6]
[7]
[8]
[9]
[10]
[11]
[12]